BEGIN:VCALENDAR
VERSION:2.0
PRODID:-//Sabre//Sabre VObject 4.5.8//EN
CALSCALE:GREGORIAN
BEGIN:VEVENT
UID:sabre-vobject-0a2ed40c-c69a-422f-8205-a8390af227f3
DTSTAMP:20260424T105537Z
SUMMARY:Kindergesundheit langfristig denken - chronische Erkrankungen im Fo
 kus
DESCRIPTION:https://app.neuburg.com/kindergesundheit-langfristig-denken-chr
 onische-erkrankungen-im-fokus_id45126
DTSTART;TZID=Europe/Berlin:20260428T180000
DURATION:PT30M
LOCATION:AMEOS Institut Süd\, Bahnhofstraße 103b\, 86633 Neuburg an der D
 onau
END:VEVENT
END:VCALENDAR
