BEGIN:VCALENDAR
VERSION:2.0
PRODID:-//Sabre//Sabre VObject 4.5.8//EN
CALSCALE:GREGORIAN
BEGIN:VEVENT
UID:sabre-vobject-3befadf3-f7dc-451f-974d-f27d042588c9
DTSTAMP:20260424T105548Z
SUMMARY:Anästhesie - mehr als nur Schlaf
DESCRIPTION:https://app.neuburg.com/anaesthesie-mehr-als-nur-schlaf_id45125
DTSTART;TZID=Europe/Berlin:20260428T180000
DURATION:PT30M
LOCATION:AMEOS Institut Süd\, Bahnhofstraße 103b\, 86633 Neuburg an der D
 onau
END:VEVENT
END:VCALENDAR
