BEGIN:VCALENDAR
VERSION:2.0
PRODID:-//Sabre//Sabre VObject 4.5.8//EN
CALSCALE:GREGORIAN
BEGIN:VEVENT
UID:sabre-vobject-5ea51673-3986-4239-80fb-87bb65c71389
DTSTAMP:20260424T105124Z
SUMMARY:The Nice Boyzz
DESCRIPTION:https://app.neuburg.com/the-nice-boyzz_id45124
DTSTART;TZID=Europe/Berlin:20260425T203000
DTEND;TZID=Europe/Berlin:20260425T223000
LOCATION:Die Drogerie – Live Club\, Luitpoldstraße 180 B\, 86633 Neuburg
  an der Donau
END:VEVENT
END:VCALENDAR
