BEGIN:VCALENDAR
VERSION:2.0
PRODID:-//Sabre//Sabre VObject 4.5.8//EN
CALSCALE:GREGORIAN
BEGIN:VEVENT
UID:sabre-vobject-d7092a27-9c70-4103-be36-b7b82d451f62
DTSTAMP:20260424T225004Z
SUMMARY:Più Präsentiert: James Wylie
DESCRIPTION:https://app.neuburg.com/piu-praesentiert-james-wylie_id45123
DTSTART;TZID=Europe/Berlin:20260622T193000
DTEND;TZID=Europe/Berlin:20260622T210000
LOCATION:Più Piano\, Spitalstraße C 172\, 86633 Neuburg an der Donau
END:VEVENT
END:VCALENDAR
