BEGIN:VCALENDAR
VERSION:2.0
PRODID:-//Sabre//Sabre VObject 4.5.8//EN
CALSCALE:GREGORIAN
BEGIN:VEVENT
UID:sabre-vobject-15392ad2-5b70-4a93-b9a0-5e232e33e71d
DTSTAMP:20260424T225003Z
SUMMARY:HOFFMANN MINERAL - Entdeckungsreise durch Biotope und aktive Abbaus
 tätten der Neuburger Kieselerde
DESCRIPTION:https://app.neuburg.com/hoffmann-mineral-entdeckungsreise-durch
 -biotope-und-aktive-abbaustaetten-der-neuburger-kieselerde_id45105
DTSTART;TZID=Europe/Berlin:20260627T133000
DTEND;TZID=Europe/Berlin:20260627T170000
END:VEVENT
END:VCALENDAR
