BEGIN:VCALENDAR
VERSION:2.0
PRODID:-//Sabre//Sabre VObject 4.5.8//EN
CALSCALE:GREGORIAN
BEGIN:VEVENT
UID:sabre-vobject-29fe22e8-8d47-4858-954a-68ae7368305d
DTSTAMP:20260424T142146Z
SUMMARY:HOFFMANN MINERAL - Entdeckungsreise durch Biotope und aktive Abbaus
 tätten der Neuburger Kieselerde
DESCRIPTION:https://app.neuburg.com/hoffmann-mineral-entdeckungsreise-durch
 -biotope-und-aktive-abbaustaetten-der-neuburger-kieselerde_id45103
DTSTART;TZID=Europe/Berlin:20260509T133000
DTEND;TZID=Europe/Berlin:20260509T170000
LOCATION:Hoffmann Mineral GmbH\, Münchener Straße 75\, 86633  Neuburg an 
 der Donau
END:VEVENT
END:VCALENDAR
