BEGIN:VCALENDAR
VERSION:2.0
PRODID:-//Sabre//Sabre VObject 4.5.8//EN
CALSCALE:GREGORIAN
BEGIN:VEVENT
UID:sabre-vobject-2de7b90d-c945-4590-bc1a-b483eafac5b4
DTSTAMP:20260424T225002Z
SUMMARY:Multi-Kulti-Bürgerfest
DESCRIPTION:https://app.neuburg.com/multi-kulti-buergerfest_id45078
DTSTART;TZID=Europe/Berlin:20260620T140000
DTEND;TZID=Europe/Berlin:20260620T233000
LOCATION:Volksfestplatz\, Volksfestplatz\, 86633 Neuburg an der Donau
END:VEVENT
END:VCALENDAR
