BEGIN:VCALENDAR
VERSION:2.0
PRODID:-//Sabre//Sabre VObject 4.5.8//EN
CALSCALE:GREGORIAN
BEGIN:VEVENT
UID:sabre-vobject-397133df-63c4-40f6-a0c4-4fa1aa56d1d0
DTSTAMP:20260424T160736Z
SUMMARY:Busfahrt nach Regensburg
DESCRIPTION:https://app.neuburg.com/busfahrt-nach-regensburg_id45069
DTSTART;TZID=Europe/Berlin:20260519T080000
DURATION:PT30M
END:VEVENT
END:VCALENDAR
