BEGIN:VCALENDAR
VERSION:2.0
PRODID:-//Sabre//Sabre VObject 4.5.8//EN
CALSCALE:GREGORIAN
BEGIN:VEVENT
UID:sabre-vobject-c7ed9fd0-a8d1-4f26-b7a6-e22172294ea5
DTSTAMP:20260424T225032Z
SUMMARY:Freiluft-Training (Gymnastik)
DESCRIPTION:https://app.neuburg.com/freiluft-training-gymnastik_id45066
DTSTART;TZID=Europe/Berlin:20260630T100000
DTEND;TZID=Europe/Berlin:20260630T104500
LOCATION:Bürgerhaus Ostend\, Berliner Straße 164\, 86633 Neuburg an der D
 onau
END:VEVENT
END:VCALENDAR
