BEGIN:VCALENDAR
VERSION:2.0
PRODID:-//Sabre//Sabre VObject 4.5.8//EN
CALSCALE:GREGORIAN
BEGIN:VEVENT
UID:sabre-vobject-1e4a9bf8-a97f-4aaa-a466-a7a50531d4db
DTSTAMP:20260424T225004Z
SUMMARY:Freiluft-Training (Gymnastik)
DESCRIPTION:https://app.neuburg.com/freiluft-training-gymnastik_id45065
DTSTART;TZID=Europe/Berlin:20260623T100000
DTEND;TZID=Europe/Berlin:20260623T104500
LOCATION:Bürgerhaus Ostend\, Berliner Straße 164\, 86633 Neuburg an der D
 onau
END:VEVENT
END:VCALENDAR
