BEGIN:VCALENDAR
VERSION:2.0
PRODID:-//Sabre//Sabre VObject 4.5.8//EN
CALSCALE:GREGORIAN
BEGIN:VEVENT
UID:sabre-vobject-6dd23577-0c46-4635-8094-5346a1cfb429
DTSTAMP:20260424T212051Z
SUMMARY:Freiluft-Training (Gymnastik)
DESCRIPTION:https://app.neuburg.com/freiluft-training-gymnastik_id45064
DTSTART;TZID=Europe/Berlin:20260616T100000
DTEND;TZID=Europe/Berlin:20260616T104500
LOCATION:Bürgerhaus Ostend\, Berliner Straße 164\, 86633 Neuburg an der D
 onau
END:VEVENT
END:VCALENDAR
