BEGIN:VCALENDAR
VERSION:2.0
PRODID:-//Sabre//Sabre VObject 4.5.8//EN
CALSCALE:GREGORIAN
BEGIN:VEVENT
UID:sabre-vobject-8cfef605-32b6-4276-9191-099035d0c3f7
DTSTAMP:20260424T160907Z
SUMMARY:Freiluft-Training (Gymnastik)
DESCRIPTION:https://app.neuburg.com/freiluft-training-gymnastik_id45060
DTSTART;TZID=Europe/Berlin:20260519T100000
DTEND;TZID=Europe/Berlin:20260519T104500
LOCATION:Bürgerhaus Ostend\, Berliner Straße 164\, 86633 Neuburg an der D
 onau
END:VEVENT
END:VCALENDAR
