BEGIN:VCALENDAR
VERSION:2.0
PRODID:-//Sabre//Sabre VObject 4.5.8//EN
CALSCALE:GREGORIAN
BEGIN:VEVENT
UID:sabre-vobject-1680b207-7e99-4abf-8f49-9bcc6ee99974
DTSTAMP:20260424T174919Z
SUMMARY:Boule-Spiel auf dem Volksfestplatz
DESCRIPTION:https://app.neuburg.com/boule-spiel-auf-dem-volksfestplatz_id45
 056
DTSTART;TZID=Europe/Berlin:20260522T140000
DURATION:PT30M
LOCATION:Volksfestplatz\, Volksfestplatz\, 86633 Neuburg an der Donau
END:VEVENT
END:VCALENDAR
