BEGIN:VCALENDAR
VERSION:2.0
PRODID:-//Sabre//Sabre VObject 4.5.8//EN
CALSCALE:GREGORIAN
BEGIN:VEVENT
UID:sabre-vobject-5587c4a9-c484-42c1-a17a-be87a73b2cfd
DTSTAMP:20260424T141423Z
SUMMARY:Fledermaus-Kästen bauen
DESCRIPTION:https://app.neuburg.com/fledermaus-kaesten-bauen_id44998
DTSTART;TZID=Europe/Berlin:20260509T110000
DURATION:PT30M
LOCATION:Haus im Moos\, Kleinhohenried 108\, 86668 Karlshuld
END:VEVENT
END:VCALENDAR
