BEGIN:VCALENDAR
VERSION:2.0
PRODID:-//Sabre//Sabre VObject 4.5.8//EN
CALSCALE:GREGORIAN
BEGIN:VEVENT
UID:sabre-vobject-5bd217a8-37c9-4386-b1ad-43c4cd0cc0c3
DTSTAMP:20260424T105435Z
SUMMARY:Fledermaus basteln mit Kindern
DESCRIPTION:https://app.neuburg.com/fledermaus-basteln-mit-kindern_id44994
DTSTART;TZID=Europe/Berlin:20260425T140000
DURATION:PT30M
LOCATION:Haus im Moos\, Kleinhohenried 108\, 86668 Karlshuld
END:VEVENT
END:VCALENDAR
