BEGIN:VCALENDAR
VERSION:2.0
PRODID:-//Sabre//Sabre VObject 4.5.8//EN
CALSCALE:GREGORIAN
BEGIN:VEVENT
UID:sabre-vobject-b0ca5c32-af4a-4177-b990-42c7c6d87fca
DTSTAMP:20260424T090331Z
SUMMARY:Frühlingsfest der Lebenshilfe Bayern Mitte
DESCRIPTION:https://app.neuburg.com/fruehlingsfest-der-lebenshilfe-bayern-m
 itte_id44986
DTSTART;TZID=Europe/Berlin:20260425T100000
DTEND;TZID=Europe/Berlin:20260425T170000
LOCATION:Lebenshilfe Werkstätte Neuburg\, Nördliche Grünauer Straße 38\
 , 86633 Neuburg an der Donau
END:VEVENT
END:VCALENDAR
