BEGIN:VCALENDAR
VERSION:2.0
PRODID:-//Sabre//Sabre VObject 4.5.8//EN
CALSCALE:GREGORIAN
BEGIN:VEVENT
UID:sabre-vobject-bcf81ae1-1450-4923-9c85-b809d76d22ed
DTSTAMP:20260424T160911Z
SUMMARY:Neuburger Nachhaltigkeitsgespräche
DESCRIPTION:https://app.neuburg.com/neuburger-nachhaltigkeitsgespraeche_id4
 4937
DTSTART;TZID=Europe/Berlin:20260519T183000
DTEND;TZID=Europe/Berlin:20260519T200000
LOCATION:THI Campus Neuburg\, An der Hochschule B1\, 86633 Neuburg an der D
 onau
END:VEVENT
END:VCALENDAR
