BEGIN:VCALENDAR
VERSION:2.0
PRODID:-//Sabre//Sabre VObject 4.5.8//EN
CALSCALE:GREGORIAN
BEGIN:VEVENT
UID:sabre-vobject-60c2bf5a-b0f1-4e49-bc5b-71aada1dae5e
DTSTAMP:20260424T122329Z
SUMMARY:Neuburger Nachhaltigkeitsgespräche
DESCRIPTION:https://app.neuburg.com/neuburger-nachhaltigkeitsgespraeche_id4
 4936
DTSTART;TZID=Europe/Berlin:20260505T183000
DTEND;TZID=Europe/Berlin:20260505T200000
LOCATION:THI Campus Neuburg\, An der Hochschule B1\, 86633 Neuburg an der D
 onau
END:VEVENT
END:VCALENDAR
