BEGIN:VCALENDAR
VERSION:2.0
PRODID:-//Sabre//Sabre VObject 4.5.8//EN
CALSCALE:GREGORIAN
BEGIN:VEVENT
UID:sabre-vobject-56cc3c95-8744-4ab9-9f71-8d2497d25d4f
DTSTAMP:20260424T105538Z
SUMMARY:Neuburger Nachhaltigkeitsgespräche
DESCRIPTION:https://app.neuburg.com/neuburger-nachhaltigkeitsgespraeche_id4
 4935
DTSTART;TZID=Europe/Berlin:20260428T183000
DTEND;TZID=Europe/Berlin:20260428T200000
LOCATION:THI Campus Neuburg\, An der Hochschule B1\, 86633 Neuburg an der D
 onau
END:VEVENT
END:VCALENDAR
