BEGIN:VCALENDAR
VERSION:2.0
PRODID:-//Sabre//Sabre VObject 4.5.8//EN
CALSCALE:GREGORIAN
BEGIN:VEVENT
UID:sabre-vobject-1dc1da56-34b1-48e6-bdba-a4554ea73cc5
DTSTAMP:20260424T160910Z
SUMMARY:Jetzt sind wir dran
DESCRIPTION:https://app.neuburg.com/jetzt-sind-wir-dran_id44914
DTSTART;TZID=Europe/Berlin:20260516T190000
DTEND;TZID=Europe/Berlin:20260516T220000
LOCATION:Stadtmuseum Neuburg an der Donau\, Amalienstraße  19\, 86633 Neub
 urg an der Donau
END:VEVENT
END:VCALENDAR
