BEGIN:VCALENDAR
VERSION:2.0
PRODID:-//Sabre//Sabre VObject 4.5.8//EN
CALSCALE:GREGORIAN
BEGIN:VEVENT
UID:sabre-vobject-7aa10a7f-832a-4fbc-a728-a7f9ab397bba
DTSTAMP:20260424T212052Z
SUMMARY:Des Kaisers neue Kleider
DESCRIPTION:https://app.neuburg.com/des-kaisers-neue-kleider_id44908
DTSTART;TZID=Europe/Berlin:20260613T160000
DTEND;TZID=Europe/Berlin:20260613T164500
LOCATION:Neuburger Marionettentheater\, Amalienstraße 8\, 86633 Neuburg an
  der Donau
END:VEVENT
END:VCALENDAR
