BEGIN:VCALENDAR
VERSION:2.0
PRODID:-//Sabre//Sabre VObject 4.5.8//EN
CALSCALE:GREGORIAN
BEGIN:VEVENT
UID:sabre-vobject-104171f4-7b67-4246-972a-b855a41116bc
DTSTAMP:20260424T192248Z
SUMMARY:Heimaterlebnistag - Geführte Fahrradtour zu Dorfkirchen und Hofkap
 ellen in der Region Schrobenhausen
DESCRIPTION:https://app.neuburg.com/heimaterlebnistag-gefuehrte-fahrradtour
 -zu-dorfkirchen-und-hofkapellen-in-der-region-schrobenhausen_id44905
DTSTART;TZID=Europe/Berlin:20260503T130000
DURATION:PT30M
LOCATION:Treffpunkt: Bahnhof in Brunnen\, Am Bahnhof \, 86564 Brunnen
END:VEVENT
END:VCALENDAR
