BEGIN:VCALENDAR
VERSION:2.0
PRODID:-//Sabre//Sabre VObject 4.5.8//EN
CALSCALE:GREGORIAN
BEGIN:VEVENT
UID:sabre-vobject-ccafe8cc-0278-4595-8c57-9e7929326040
DTSTAMP:20260424T141412Z
SUMMARY:Mimenfeld spielt "Jetzt sind wir dran" von Alan Ayckbourn
DESCRIPTION:https://app.neuburg.com/mimenfeld-spielt-jetzt-sind-wir-dran-vo
 n-alan-ayckbourn_id44900
DTSTART;TZID=Europe/Berlin:20260514T190000
DURATION:PT30M
LOCATION:Stadtmuseum Neuburg an der Donau\, Amalienstraße  19\, 86633 Neub
 urg an der Donau
END:VEVENT
END:VCALENDAR
