BEGIN:VCALENDAR
VERSION:2.0
PRODID:-//Sabre//Sabre VObject 4.5.8//EN
CALSCALE:GREGORIAN
BEGIN:VEVENT
UID:sabre-vobject-611e71ae-5d6b-4c75-bde4-fe7a552d5943
DTSTAMP:20260424T142147Z
SUMMARY:Mimenfeld spielt "Jetzt sind wir dran" von Alan Ayckbourn
DESCRIPTION:https://app.neuburg.com/mimenfeld-spielt-jetzt-sind-wir-dran-vo
 n-alan-ayckbourn_id44899
DTSTART;TZID=Europe/Berlin:20260509T190000
DURATION:PT30M
LOCATION:Stadtmuseum Neuburg an der Donau\, Amalienstraße  19\, 86633 Neub
 urg an der Donau
END:VEVENT
END:VCALENDAR
