BEGIN:VCALENDAR
VERSION:2.0
PRODID:-//Sabre//Sabre VObject 4.5.8//EN
CALSCALE:GREGORIAN
BEGIN:VEVENT
UID:sabre-vobject-303dbdaf-c905-48eb-bd6b-264654aa3038
DTSTAMP:20260424T122357Z
SUMMARY:Mimenfeld spielt "Jetzt sind wir dran" von Alan Ayckbourn
DESCRIPTION:https://app.neuburg.com/mimenfeld-spielt-jetzt-sind-wir-dran-vo
 n-alan-ayckbourn_id44898
DTSTART;TZID=Europe/Berlin:20260508T190000
DURATION:PT30M
LOCATION:Stadtmuseum Neuburg an der Donau\, Amalienstraße  19\, 86633 Neub
 urg an der Donau
END:VEVENT
END:VCALENDAR
