BEGIN:VCALENDAR
VERSION:2.0
PRODID:-//Sabre//Sabre VObject 4.5.8//EN
CALSCALE:GREGORIAN
BEGIN:VEVENT
UID:sabre-vobject-8a5120eb-0b93-48c2-9a89-759a6345d6ce
DTSTAMP:20260425T023500Z
SUMMARY:Offener Alleinerziehenden-Treff „Starkes Solo“ (Teilnahme mit K
 ind möglich)
DESCRIPTION:https://app.neuburg.com/offener-alleinerziehenden-treff-starkes
 -solo-teilnahme-mit-kind-moeglich_id44722
DTSTART;TZID=Europe/Berlin:20260724T160000
DTEND;TZID=Europe/Berlin:20260724T180000
LOCATION:Bürgerhaus Schwalbanger\, Richard-Wagner-Straße 6\, 86633 Neubur
 g an der Donau
END:VEVENT
END:VCALENDAR
