BEGIN:VCALENDAR
VERSION:2.0
PRODID:-//Sabre//Sabre VObject 4.5.8//EN
CALSCALE:GREGORIAN
BEGIN:VEVENT
UID:sabre-vobject-15e1d587-e5e4-40a3-8229-6802837ecec7
DTSTAMP:20260425T023459Z
SUMMARY:Kinderschlaf – Online Sprechstunde
DESCRIPTION:https://app.neuburg.com/kinderschlaf-online-sprechstunde_id4472
 1
DTSTART;TZID=Europe/Berlin:20260720T083000
DTEND;TZID=Europe/Berlin:20260720T100000
LOCATION:Online
END:VEVENT
END:VCALENDAR
