BEGIN:VCALENDAR
VERSION:2.0
PRODID:-//Sabre//Sabre VObject 4.5.8//EN
CALSCALE:GREGORIAN
BEGIN:VEVENT
UID:sabre-vobject-51720915-f2fd-40ab-8316-33dadd6ec483
DTSTAMP:20260425T004521Z
SUMMARY:Kinderschlaf – Online Sprechstunde
DESCRIPTION:https://app.neuburg.com/kinderschlaf-online-sprechstunde_id4471
 9
DTSTART;TZID=Europe/Berlin:20260704T090000
DTEND;TZID=Europe/Berlin:20260704T103000
LOCATION:Online
END:VEVENT
END:VCALENDAR
