BEGIN:VCALENDAR
VERSION:2.0
PRODID:-//Sabre//Sabre VObject 4.5.8//EN
CALSCALE:GREGORIAN
BEGIN:VEVENT
UID:sabre-vobject-b9962a7a-5ed5-486c-8e6f-b0415400fb90
DTSTAMP:20260424T160908Z
SUMMARY:Gästeführung per Rad (E-Bike) 
DESCRIPTION:https://app.neuburg.com/gaestefuehrung-per-rad-e-bike_id44717
DTSTART;TZID=Europe/Berlin:20260516T120000
DURATION:PT30M
LOCATION:Staustufe Neuburg/Do.\, Bittenbrunn\, Kraftwerkstraße\, Kraftwerk
 straße \, 86 Neuburg an der Donau
END:VEVENT
END:VCALENDAR
