BEGIN:VCALENDAR
VERSION:2.0
PRODID:-//Sabre//Sabre VObject 4.5.8//EN
CALSCALE:GREGORIAN
BEGIN:VEVENT
UID:sabre-vobject-79e766cf-31d0-444a-af31-971c7e45b752
DTSTAMP:20260424T122328Z
SUMMARY:Damenwahl
DESCRIPTION:https://app.neuburg.com/damenwahl_id44700
DTSTART;TZID=Europe/Berlin:20260502T200000
DURATION:PT30M
LOCATION:Stadttheater\, Residenzstraße A67\, 86633 Neuburg an der Donau
END:VEVENT
END:VCALENDAR
