BEGIN:VCALENDAR
VERSION:2.0
PRODID:-//Sabre//Sabre VObject 4.5.8//EN
CALSCALE:GREGORIAN
BEGIN:VEVENT
UID:sabre-vobject-49e69f57-9ae9-43ef-a1f6-88028853c3b4
DTSTAMP:20260425T023931Z
SUMMARY:Kleine Konzerte in der Schlosskapelle: Aura dulcis
DESCRIPTION:https://app.neuburg.com/kleine-konzerte-in-der-schlosskapelle-a
 ura-dulcis_id44676
DTSTART;TZID=Europe/Berlin:20260726T190000
DTEND;TZID=Europe/Berlin:20260726T194500
LOCATION:Schlosskapelle\, Residenzstraße 2\, 86633 Neuburg
END:VEVENT
END:VCALENDAR
