BEGIN:VCALENDAR
VERSION:2.0
PRODID:-//Sabre//Sabre VObject 4.5.8//EN
CALSCALE:GREGORIAN
BEGIN:VEVENT
UID:sabre-vobject-c3c7c75b-be65-4afb-90ec-49e6cc606627
DTSTAMP:20260424T212402Z
SUMMARY:Kleine Konzerte in der Schlosskapelle: Capella Nova
DESCRIPTION:https://app.neuburg.com/kleine-konzerte-in-der-schlosskapelle-c
 apella-nova_id44672
DTSTART;TZID=Europe/Berlin:20260614T190000
DTEND;TZID=Europe/Berlin:20260614T194500
LOCATION:Schlosskapelle\, Residenzstraße 2\, 86633 Neuburg
END:VEVENT
END:VCALENDAR
