BEGIN:VCALENDAR
VERSION:2.0
PRODID:-//Sabre//Sabre VObject 4.5.8//EN
CALSCALE:GREGORIAN
BEGIN:VEVENT
UID:sabre-vobject-58bb5d37-64f2-4d39-bfce-59690304f5ff
DTSTAMP:20260424T193602Z
SUMMARY:Kleine Konzerte in der Schlosskapelle: Troubadix
DESCRIPTION:https://app.neuburg.com/kleine-konzerte-in-der-schlosskapelle-t
 roubadix_id44671
DTSTART;TZID=Europe/Berlin:20260607T190000
DTEND;TZID=Europe/Berlin:20260607T194500
LOCATION:Schlosskapelle\, Residenzstraße 2\, 86633 Neuburg
END:VEVENT
END:VCALENDAR
