BEGIN:VCALENDAR
VERSION:2.0
PRODID:-//Sabre//Sabre VObject 4.5.8//EN
CALSCALE:GREGORIAN
BEGIN:VEVENT
UID:sabre-vobject-eb78c30d-7a13-4c11-831e-a994cbfdbe9d
DTSTAMP:20260424T180145Z
SUMMARY:Kleine Konzerte in der Studienkirche: Nördlinger Bachtrompetenense
 mble
DESCRIPTION:https://app.neuburg.com/kleine-konzerte-in-der-studienkirche-no
 erdlinger-bachtrompetenensemble_id44669
DTSTART;TZID=Europe/Berlin:20260524T190000
DTEND;TZID=Europe/Berlin:20260524T194500
LOCATION:Studienkirche St. Ursula\, Wolfgang-Wilhelm-Platz B 90\, 86633 Neu
 burg
END:VEVENT
END:VCALENDAR
