BEGIN:VCALENDAR
VERSION:2.0
PRODID:-//Sabre//Sabre VObject 4.5.8//EN
CALSCALE:GREGORIAN
BEGIN:VEVENT
UID:sabre-vobject-8eb5cbcf-d957-42d1-a03f-1bda89f3574a
DTSTAMP:20260424T161539Z
SUMMARY:Kleine Konzerte in der Schlosskapelle: Julia Israelian & Friends
DESCRIPTION:https://app.neuburg.com/kleine-konzerte-in-der-schlosskapelle-j
 ulia-israelian-friends_id44668
DTSTART;TZID=Europe/Berlin:20260517T190000
DTEND;TZID=Europe/Berlin:20260517T194500
LOCATION:Schlosskapelle\, Residenzstraße 2\, 86633 Neuburg
END:VEVENT
END:VCALENDAR
