BEGIN:VCALENDAR
VERSION:2.0
PRODID:-//Sabre//Sabre VObject 4.5.8//EN
CALSCALE:GREGORIAN
BEGIN:VEVENT
UID:sabre-vobject-e5b53d16-e5b2-4834-a0d9-d6fd22ef2314
DTSTAMP:20260424T142500Z
SUMMARY:Weinseminar
DESCRIPTION:https://app.neuburg.com/weinseminar_id44621
DTSTART;TZID=Europe/Berlin:20260509T160000
DTEND;TZID=Europe/Berlin:20260509T190000
LOCATION:Weinberg & Weinhaus Tremml\, \, 86633 Neuburg an der Donau
END:VEVENT
END:VCALENDAR
