BEGIN:VCALENDAR
VERSION:2.0
PRODID:-//Sabre//Sabre VObject 4.5.8//EN
CALSCALE:GREGORIAN
BEGIN:VEVENT
UID:sabre-vobject-10198365-cc7e-4fbb-b77f-0a42993a14e1
DTSTAMP:20260425T004812Z
SUMMARY:Più Präsentiert: Sommer Open Air Altstadt Vol. III
DESCRIPTION:https://app.neuburg.com/piu-praesentiert-sommer-open-air-altsta
 dt-vol-iii_id44600
DTSTART;TZID=Europe/Berlin:20260710T190000
DTEND;TZID=Europe/Berlin:20260710T220000
LOCATION:Più Piano\, Spitalstraße C 172\, 86633 Neuburg an der Donau
END:VEVENT
END:VCALENDAR
