BEGIN:VCALENDAR
VERSION:2.0
PRODID:-//Sabre//Sabre VObject 4.5.8//EN
CALSCALE:GREGORIAN
BEGIN:VEVENT
UID:sabre-vobject-9b3dc2e7-a653-48e6-94da-205d10d9d245
DTSTAMP:20260424T124745Z
SUMMARY:Frühlingsmarkt Schloss Sandizell
DESCRIPTION:https://app.neuburg.com/fruehlingsmarkt-schloss-sandizell_id445
 99
DTSTART;TZID=Europe/Berlin:20260501T100000
DTEND;TZID=Europe/Berlin:20260503T180000
LOCATION:Schloss Sandizell
END:VEVENT
END:VCALENDAR
