BEGIN:VCALENDAR
VERSION:2.0
PRODID:-//Sabre//Sabre VObject 4.5.8//EN
CALSCALE:GREGORIAN
BEGIN:VEVENT
UID:sabre-vobject-b22addb6-7707-4bb7-a0bf-f223068a23bb
DTSTAMP:20260425T004744Z
SUMMARY:Kneippwanderweg mit Fahrrad erkunden
DESCRIPTION:https://app.neuburg.com/kneippwanderweg-mit-fahrrad-erkunden_id
 44596
DTSTART;TZID=Europe/Berlin:20260711T100000
DTEND;TZID=Europe/Berlin:20260711T120000
END:VEVENT
END:VCALENDAR
