BEGIN:VCALENDAR
VERSION:2.0
PRODID:-//Sabre//Sabre VObject 4.5.8//EN
CALSCALE:GREGORIAN
BEGIN:VEVENT
UID:sabre-vobject-85430bfa-2e43-4eb3-86cb-8e617547e35a
DTSTAMP:20260425T004741Z
SUMMARY:Führung im Kräutergarten
DESCRIPTION:https://app.neuburg.com/fuehrung-im-kraeutergarten_id44594
DTSTART;TZID=Europe/Berlin:20260621T140000
DURATION:PT30M
LOCATION:Neuburger Kräutergarten
END:VEVENT
END:VCALENDAR
