BEGIN:VCALENDAR
VERSION:2.0
PRODID:-//Sabre//Sabre VObject 4.5.8//EN
CALSCALE:GREGORIAN
BEGIN:VEVENT
UID:sabre-vobject-c70e5fc6-8d22-4dc2-a8dd-7c4ee6e8e6cd
DTSTAMP:20260424T122930Z
SUMMARY:JHV des Verschönerungsvereins
DESCRIPTION:https://app.neuburg.com/jhv-des-verschoenerungsvereins_id44581
DTSTART;TZID=Europe/Berlin:20260508T190000
DURATION:PT30M
LOCATION:Restaurant Central\, Adlerstraße C 200\, 86633 Neuburg an der Don
 au
END:VEVENT
END:VCALENDAR
