BEGIN:VCALENDAR
VERSION:2.0
PRODID:-//Sabre//Sabre VObject 4.5.8//EN
CALSCALE:GREGORIAN
BEGIN:VEVENT
UID:sabre-vobject-947cb260-9f1b-4b65-82cf-4c88968404f8
DTSTAMP:20260424T230916Z
SUMMARY:Geschwisterrivalität
DESCRIPTION:https://app.neuburg.com/geschwisterrivalitaet_id44306
DTSTART;TZID=Europe/Berlin:20260623T100000
DTEND;TZID=Europe/Berlin:20260623T120000
END:VEVENT
END:VCALENDAR
