BEGIN:VCALENDAR
VERSION:2.0
PRODID:-//Sabre//Sabre VObject 4.5.8//EN
CALSCALE:GREGORIAN
BEGIN:VEVENT
UID:sabre-vobject-6a2bf384-e950-4e58-bbdf-617bda95df78
DTSTAMP:20260424T123500Z
SUMMARY:Acker Alm Dinner Event - Hopfen Heimat Sau
DESCRIPTION:https://app.neuburg.com/acker-alm-dinner-event-hopfen-heimat-sa
 u_id44295
DTSTART;TZID=Europe/Berlin:20260424T173000
DURATION:PT30M
LOCATION:Die Acker Alm\, Am Maschinenring 2\, 86633 Neuburg an der Donau
END:VEVENT
END:VCALENDAR
