BEGIN:VCALENDAR
VERSION:2.0
PRODID:-//Sabre//Sabre VObject 4.5.8//EN
CALSCALE:GREGORIAN
BEGIN:VEVENT
UID:sabre-vobject-db8fba1d-84f8-469c-804f-09fa29d74bd7
DTSTAMP:20260424T193602Z
SUMMARY:Kinderschlaf – Online Sprechstunde
DESCRIPTION:https://app.neuburg.com/kinderschlaf-online-sprechstunde_id4429
 0
DTSTART;TZID=Europe/Berlin:20260608T083000
DTEND;TZID=Europe/Berlin:20260608T100000
END:VEVENT
END:VCALENDAR
