BEGIN:VCALENDAR
VERSION:2.0
PRODID:-//Sabre//Sabre VObject 4.5.8//EN
CALSCALE:GREGORIAN
BEGIN:VEVENT
UID:sabre-vobject-59085ba7-5c5d-4a94-aedf-40e5dcfe5f7d
DTSTAMP:20260424T142433Z
SUMMARY:Kinderschlaf – Online Sprechstunde
DESCRIPTION:https://app.neuburg.com/kinderschlaf-online-sprechstunde_id4428
 8
DTSTART;TZID=Europe/Berlin:20260509T090000
DTEND;TZID=Europe/Berlin:20260509T103000
END:VEVENT
END:VCALENDAR
