BEGIN:VCALENDAR
VERSION:2.0
PRODID:-//Sabre//Sabre VObject 4.5.8//EN
CALSCALE:GREGORIAN
BEGIN:VEVENT
UID:sabre-vobject-6753ba04-0e4d-4c6a-ae7a-3463a94eaf2e
DTSTAMP:20260424T123506Z
SUMMARY:Mein beruflicher Wiedereinstieg in/nach der Elternzeit
DESCRIPTION:https://app.neuburg.com/mein-beruflicher-wiedereinstieg-in-nach
 -der-elternzeit_id44287
DTSTART;TZID=Europe/Berlin:20260506T090000
DTEND;TZID=Europe/Berlin:20260506T103000
LOCATION:Bürgerhaus Schwalbanger\, Richard-Wagner-Straße 6\, 86633 Neubur
 g an der Donau
END:VEVENT
END:VCALENDAR
