BEGIN:VCALENDAR
VERSION:2.0
PRODID:-//Sabre//Sabre VObject 4.5.8//EN
CALSCALE:GREGORIAN
BEGIN:VEVENT
UID:sabre-vobject-f7bcb189-b4eb-4a85-b0f7-50e1d307a2fa
DTSTAMP:20260424T175540Z
SUMMARY:Info-Besuch beim Bestatter Faller
DESCRIPTION:https://app.neuburg.com/info-besuch-beim-bestatter-faller_id442
 61
DTSTART;TZID=Europe/Berlin:20260519T140000
DURATION:PT30M
LOCATION:Bestattungen Faller
END:VEVENT
END:VCALENDAR
