BEGIN:VCALENDAR
VERSION:2.0
PRODID:-//Sabre//Sabre VObject 4.5.8//EN
CALSCALE:GREGORIAN
BEGIN:VEVENT
UID:sabre-vobject-c5b8308c-d588-4193-b181-74bf73f8f0fa
DTSTAMP:20260424T124826Z
SUMMARY:Boule-Spiel auf dem Volksfestplatz
DESCRIPTION:https://app.neuburg.com/boule-spiel-auf-dem-volksfestplatz_id44
 257
DTSTART;TZID=Europe/Berlin:20260508T140000
DURATION:PT30M
LOCATION:Volksfestplatz\, Volksfestplatz\, 86633 Neuburg an der Donau
END:VEVENT
END:VCALENDAR
