BEGIN:VCALENDAR
VERSION:2.0
PRODID:-//Sabre//Sabre VObject 4.5.8//EN
CALSCALE:GREGORIAN
BEGIN:VEVENT
UID:sabre-vobject-23eabb08-0ba8-4956-9d8e-66d60115f82f
DTSTAMP:20260424T111029Z
SUMMARY:Boule-Spiel auf dem Volksfestplatz
DESCRIPTION:https://app.neuburg.com/boule-spiel-auf-dem-volksfestplatz_id44
 256
DTSTART;TZID=Europe/Berlin:20260501T140000
DURATION:PT30M
LOCATION:Volksfestplatz\, Volksfestplatz\, 86633 Neuburg an der Donau
END:VEVENT
END:VCALENDAR
