BEGIN:VCALENDAR
VERSION:2.0
PRODID:-//Sabre//Sabre VObject 4.5.8//EN
CALSCALE:GREGORIAN
BEGIN:VEVENT
UID:sabre-vobject-0b5b5a76-f602-4255-8eb1-7acb93c614a4
DTSTAMP:20260424T231026Z
SUMMARY:»The Circle« – Bjarke Falgren & Sönke Meinen
DESCRIPTION:https://app.neuburg.com/the-circle-bjarke-falgren-soenke-meinen
 _id44250
DTSTART;TZID=Europe/Berlin:20260627T200000
DTEND;TZID=Europe/Berlin:20260627T230000
LOCATION:Bischof-Simpert-Platz\, \, 86633 Neuburg an der Donau
END:VEVENT
END:VCALENDAR
